BEGIN:VCALENDAR
VERSION:2.0
PRODID:-//Kulturverein Kleine Waldschänke e.V. - ECPv6.15.20//NONSGML v1.0//EN
CALSCALE:GREGORIAN
METHOD:PUBLISH
X-ORIGINAL-URL:https://kleinewaldschaenke.de
X-WR-CALDESC:Veranstaltungen für Kulturverein Kleine Waldschänke e.V.
REFRESH-INTERVAL;VALUE=DURATION:PT1H
X-Robots-Tag:noindex
X-PUBLISHED-TTL:PT1H
BEGIN:VTIMEZONE
TZID:Europe/Berlin
BEGIN:DAYLIGHT
TZOFFSETFROM:+0100
TZOFFSETTO:+0200
TZNAME:CEST
DTSTART:20250330T010000
END:DAYLIGHT
BEGIN:STANDARD
TZOFFSETFROM:+0200
TZOFFSETTO:+0100
TZNAME:CET
DTSTART:20251026T010000
END:STANDARD
BEGIN:DAYLIGHT
TZOFFSETFROM:+0100
TZOFFSETTO:+0200
TZNAME:CEST
DTSTART:20260329T010000
END:DAYLIGHT
BEGIN:STANDARD
TZOFFSETFROM:+0200
TZOFFSETTO:+0100
TZNAME:CET
DTSTART:20261025T010000
END:STANDARD
BEGIN:DAYLIGHT
TZOFFSETFROM:+0100
TZOFFSETTO:+0200
TZNAME:CEST
DTSTART:20270328T010000
END:DAYLIGHT
BEGIN:STANDARD
TZOFFSETFROM:+0200
TZOFFSETTO:+0100
TZNAME:CET
DTSTART:20271031T010000
END:STANDARD
END:VTIMEZONE
BEGIN:VEVENT
DTSTART;TZID=Europe/Berlin:20260426T110000
DTEND;TZID=Europe/Berlin:20260426T140000
DTSTAMP:20260424T134044
CREATED:20250413T102628Z
LAST-MODIFIED:20260221T072353Z
UID:1561-1777201200-1777212000@kleinewaldschaenke.de
SUMMARY:Klönschnack - open Hus
DESCRIPTION:Ehrenamtliche unseres Kulturvereins laden am \n26. April ab 11:00 Uhr für 2-3 Stunden \nzum lockeren Treffen und geselligen Miteinander in die Kleine Waldschänke in Klingberg ein ein. Neue und alte Klingberger\, Nachbarn sowie kulturell Interessierte sind herzlich eingeladen ins Gespräch zu kommen – über Lokal- und Kulturtipps\, Alltägliches oder einfach zum Netzwerken. \nFür einen Imbiss ist gesorgt. \n 
URL:https://kleinewaldschaenke.de/event/kloenschnack-open-hus-3/
LOCATION:Kleine Waldschänke\, Seestraße 56\, Klingberg\, 23684
CATEGORIES:Klönschnack
ATTACH;FMTTYPE=image/jpeg:https://kleinewaldschaenke.de/wp-content/uploads/2025/04/Sommerbild-Waldschaenke-scaled-e1744539859910.jpg
END:VEVENT
BEGIN:VEVENT
DTSTART;TZID=Europe/Berlin:20260501T000000
DTEND;TZID=Europe/Berlin:20260510T235959
DTSTAMP:20260424T134044
CREATED:20260222T072156Z
LAST-MODIFIED:20260403T062944Z
UID:1772-1777593600-1778457599@kleinewaldschaenke.de
SUMMARY:Hope for Africa - Afrikanische Handwerkskunst
DESCRIPTION:„Hope for Africa“ – Afrikanische Handwerkskunst zu Gast in der Kleinen Waldschänke  \nFairtrade Schmuck und Dekoartikel aus Afrika\nPearls of Africa\, Scharbeutz\n \n01. bis 10.05.2026\nSamstag und Sonntag von 11:00 bis 17:00 Uhr\, wochentags von 14:00 bis 17:00 Uhr \n        \nPräsentiert werden Schmuck und Dekorationsartikel des Fair-Trade-Unternehmens Pearls of Africa\, das eng mit Kunsthandwerkerinnen und Kunsthandwerkern in Uganda zusammenarbeitet. Als Besucher entdecken Sie eine Vielzahl an handgefertigten Unikaten: Ketten\, Armbänder und Ohrringe aus leuchtend buntem Papierschmuck sowie dekorative Schalen\, Teller und Anhänger aus recyceltem Papier und Glas. Jedes Stück ist ein Einzelstück und erzählt seine eigene Geschichte – gefertigt in liebevoller Handarbeit von Produzentinnen und Produzenten vor Ort.  \nHinter dem Projekt steht die Familie Brosch aus Gronenberg\, die mit rund 60 Frauen und acht Männern in Uganda zusammenarbeitet und persönlichen Kontakt zu den Produzentinnen und Produzenten pflegt. Das Material wird direkt vor Ort bezogen\, die Herstellung erfolgt eigenständig durch die Handwerkerinnen und Handwerker. Ziel des Projekts ist es\, die wirtschaftliche Selbstständigkeit der Beteiligten zu stärken und gleichzeitig traditionelle Handwerkstechniken zu bewahren – ganz im Sinne des Fairen Handels.   \nMit Calotta ist auch in diesem Jahr wieder eine engagierte Repräsentantin vor Ort\, die bereits vielen Besucherinnen und Besuchern aus dem Vorjahr bekannt ist und den persönlichen Austausch rund um das Projekt bereichert.
URL:https://kleinewaldschaenke.de/event/hope-for-africa/
LOCATION:Kleine Waldschänke\, Seestraße 56\, Klingberg\, 23684
CATEGORIES:Ausstellung
END:VEVENT
BEGIN:VEVENT
DTSTART;TZID=Europe/Berlin:20260516T000000
DTEND;TZID=Europe/Berlin:20260517T235959
DTSTAMP:20260424T134044
CREATED:20260222T072501Z
LAST-MODIFIED:20260403T064019Z
UID:1775-1778889600-1779062399@kleinewaldschaenke.de
SUMMARY:Auf dem Weg - Malerei und Druckgrafik
DESCRIPTION:Ausstellung mit Malerei und Druckgrafik von Claudia Diers in der Kleinen Waldschänke\n16. und 17.05.2026\, 11:00 bis 17:00 Uhr \n     \nIn Ihrer Arbeit setzt sich Claudia Diers mit der uns umgebenden Natur auseinander. Ausgangspunkt ist häufig das Unterwegssein selbst: das Gehen\, Beobachten und Wahrnehmen dessen\, was häufig übersehen oder als selbstverständlich hingenommen wird.  \nIn ihrer Arbeit geht es um die Reduktion auf das Wesentliche\, das Einfangen einer Stimmung und das Hervorheben des Besonderen.  \nEin Hauptgewicht ihrer Arbeit liegt derzeit im zeichnerischen und lithografischen Bereich. Eine Auswahl davon sowie Werke in Mischtechnik mit Acryl\, Öl und Coldwax erwartet die Besucher in der Kleinen Waldschänke.
URL:https://kleinewaldschaenke.de/event/unterwegs-2/
LOCATION:Kleine Waldschänke\, Seestraße 56\, Klingberg\, 23684
CATEGORIES:Ausstellung
END:VEVENT
BEGIN:VEVENT
DTSTART;TZID=Europe/Berlin:20260522T000000
DTEND;TZID=Europe/Berlin:20260525T235959
DTSTAMP:20260424T134044
CREATED:20260222T072845Z
LAST-MODIFIED:20260403T064816Z
UID:1777-1779408000-1779753599@kleinewaldschaenke.de
SUMMARY:Farbe an der Küste
DESCRIPTION:Malerei in Acryl\, Ölkreide und Collagen\nvon Sabine Angellow\, Scharbeutz \n22. bis 25.05.2026\nFreitag von 14:00 bis 17:00 Uhr\, Samstag bis Montag von 11:00 bis 17:00 Uhr \n      \nDie Küste ist manchmal grau und windig und die Möwen auch mal frech und schlecht gelaunt. Genau hier setzt die Künstlerin an. In der Ausstellung „Farbe an der Küste“ zeigt Sabine Angellow Acrylmalerei\, die die Küste und ihre Menschen mit Humor und Farbe nimmt.   \nDie Arbeiten leben von kräftigen Tönen\, nicht immer klaren Formen und dem Blick\, der die Dinge nicht größer macht\, als sie sind. Himmel\, Wasser und Strand\, Menschen und Gegenstände dürfen schief geraten sein oder sich farblich danebenbenehmen. Das ist Absicht. Acryl als Medium passt dazu – direkt\, unkompliziert und nicht nachtragend\, wenn etwas danebenläuft.  \nDie Ausstellung präsentiert ebenfalls abstrakte Arbeiten und Collagen. Besucherinnen und Besucher sind eingeladen\, Formen\, Farben und Strukturen frei zu interpretieren.  
URL:https://kleinewaldschaenke.de/event/farbe-an-der-kueste/
LOCATION:Kleine Waldschänke\, Seestraße 56\, Klingberg\, 23684
CATEGORIES:Ausstellung
END:VEVENT
BEGIN:VEVENT
DTSTART;TZID=Europe/Berlin:20260605T000000
DTEND;TZID=Europe/Berlin:20260607T235959
DTSTAMP:20260424T134044
CREATED:20260221T074426Z
LAST-MODIFIED:20260222T084713Z
UID:1740-1780617600-1780876799@kleinewaldschaenke.de
SUMMARY:Das Leben ist bunt
DESCRIPTION:Abstrakte Malerei\, Collagen und Aquarellbilder\nvon Marit Heilmann-Matthießen\, Neustadt\nund Melanie Brennecke\, Ratekau \n05. bis 07.06.2026\nFreitag von 14:00 bis 18:00 Uhr\nSamstag und Sonntag von 11:00 bis 18:00 Uhr \nIn ihrer Gemeinschaftsausstellung präsentieren Melanie Brennecke aus Ratekau\n(www.mbrennecke.de) und Margit Heilmann-Matthießen (www.kunstammeer.eu) aus Neustadt i.H.\nihre Werke. \nMargit Heilmann-Matthießen\nMargit Heilmann-Matthießen\nMelanie Brennecke\nMargit Heilmann-Matthießen\nMelanie Brennecke\nMelanie Brennecke\nMelanie BrenneckeIn ihrer diesjährigen Ausstellung zeigen die Künstlerinnen abstrakte Bilder in Acryl auf Leinwand in\nverschiedenen Formaten. Durch Farben und Strukturen werden Stimmungen und Eindrücke malerisch\numgesetzt. Acrylfarben und verschiedene Materialien finden dabei in den Bildern und Collagen\nVerwendung.\nAuch eine Auswahl an Aquarellbildern angeregt durch Motive in Ostholstein wird zu sehen sein.\nDie Arbeiten sollen die Betrachtenden dazu ermutigen\, sich inspirieren zu lassen und ihre ganz eigenen\nEntdeckungen zu machen. \nDie Ausstellung ist am Freitag von 14 – 18 Uhr und Sonnabend / Sonntag jeweils von 11 bis 18 Uhr\ngeöffnet. An diesen Tagen werden die beiden Künstlerinnen vor Ort sein. Sie freuen sich auf Ihren /\nEuren Besuch und anregende Gespräche mit Ihnen / Euch.
URL:https://kleinewaldschaenke.de/event/das-leben-ist-bunt/
LOCATION:Kleine Waldschänke\, Seestraße 56\, Klingberg\, 23684
CATEGORIES:Ausstellung
END:VEVENT
BEGIN:VEVENT
DTSTART;TZID=Europe/Berlin:20260613T000000
DTEND;TZID=Europe/Berlin:20260614T235959
DTSTAMP:20260424T134044
CREATED:20260222T073225Z
LAST-MODIFIED:20260403T065817Z
UID:1780-1781308800-1781481599@kleinewaldschaenke.de
SUMMARY:Gemeinsam farbenfroh
DESCRIPTION:Acryl abstrakt\nvon Janina Krellenberg und Silvia Meier-Schuler\, Lübeck \n13. und 14.06.2026\nSamstag und Sonntag von 11:00 bis 18:00 Uhr \n      \nDie Künstlerinnen Janina Krellenberg und Silvia Meier-Schuler verbindet eine gemeinsame Leidenschaft für die abstrakte Acrylmalerei. Kennengelernt über ihre Liebe zur Kunst\, eint sie vor allem eine stetige Inspirationsquelle: der Norden mit seinem Meer\, seiner Weite und seiner besonderen Stimmung.  \nIn ihren Werken wechseln sich kräftige\, ausdrucksstarke Farbtöne mit sanften\, ruhigen Kompositionen ab. Das Meer und die nordische Landschaft finden dabei nicht als konkrete Motive\, sondern als Gefühl\, Bewegung und Farbklang ihren Ausdruck.  \nAm 13. und 14. Juni 2026 präsentieren Janina Krellenberg und Silvia Meier-Schuler ihre aktuellen Arbeiten in einer gemeinsamen Ausstellung. Die Besucherinnen und Besucher erwartet eine vielseitige Auswahl abstrakter Acrylbilder\, die zum Verweilen\, Entdecken und Träumen einladen. 
URL:https://kleinewaldschaenke.de/event/gemeinsam-farbenfroh/
LOCATION:Kleine Waldschänke\, Seestraße 56\, Klingberg\, 23684
CATEGORIES:Ausstellung
END:VEVENT
BEGIN:VEVENT
DTSTART;TZID=Europe/Berlin:20260704T000000
DTEND;TZID=Europe/Berlin:20260705T235959
DTSTAMP:20260424T134044
CREATED:20260222T075225Z
LAST-MODIFIED:20260403T071111Z
UID:1782-1783123200-1783295999@kleinewaldschaenke.de
SUMMARY:Blau - auf jeden Fall
DESCRIPTION:Malerei und Kalligrafie \nKontraste\, Mischungen und Farbklänge \nvon Heidi Niehaus\, Bad Schwartau\nund Elvira Willems\, Seedorf \n04. und 05.07.2026\nSamstag und Sonntag von 11:00 bis 18:00 Uhr \n      \nUnter dem Motto „Blau – auf jeden Fall. Kontraste\, Mischungen und Farbklänge“ präsentieren die beiden Schleswig-Holsteinischen Künstlerinnen Heidi Niehaus und Elvira Willems am Samstag\, 4. Juli und Sonntag\, 5. Juli 2026 jeweils von 11 bis 18 Uhr ihre Kunst in der Kleinen Waldschänke in Klingberg. Gezeigt werden gemalte und kalligrafisch inspirierte Bilder in großen und kleinen Formaten\, Künstlerbücher\, Karten\, kalligrafische Papier- und Buchobjekte …   \nWährend Heidi Niehaus mit farbigen Tuschen\, Kalligrafie\, Schrift und Textfragmenten arbeitet\, sind für Elvira Willems Acrylmalerei\, Zeichnung und Collage die Ausdrucksmittel der Wahl.  \nÜber die Farbigkeit und die Strukturen entstehen beim Betrachten spannende Wechselwirkungen zwischen den Arbeiten der beiden Künstlerinnen.  \nDiese Ausstellung stellt die Farbe Blau in den Mittelpunkt. Blau beruhigt und regt an\, Blau ist die Farbe der Sehnsucht und der Träume. Wir lieben es\, den Blick in die blaue Ferne zu richten\, verweilen gern am Meer. Spielerischer Umgang mit Blau führt zu immer neuen Wahrnehmungen kleiner und großer Flächen. Wolkige Farbübergänge stehen scharf kontrastierenden Bildbereichen gegenüber\, auch in Komplementärfarben. Flächen werden umspielt und gebrochen von feinen kalligrafischen Linien. „Wir zupfen an den Rändern des Blau und loten alles aus\, was das Blau hergibt\, vom zartesten Himmelblau bis zum tiefsten Blauschwarz.“ 
URL:https://kleinewaldschaenke.de/event/blau-auf-jeden-fall/
LOCATION:Kleine Waldschänke\, Seestraße 56\, Klingberg\, 23684
CATEGORIES:Ausstellung
END:VEVENT
BEGIN:VEVENT
DTSTART;TZID=Europe/Berlin:20260718T000000
DTEND;TZID=Europe/Berlin:20260726T235959
DTSTAMP:20260424T134044
CREATED:20260222T075524Z
LAST-MODIFIED:20260403T070625Z
UID:1784-1784332800-1785110399@kleinewaldschaenke.de
SUMMARY:Strukturen
DESCRIPTION:Mischtechnik\nvon Klaus v. Gratkowski\, Scharbeutz \n18. bis 26.07.2026\nSamstag und Sonntag von 11:00 bis 18:00 Uhr\, wochentags von 14:00 bis 18:00 Uhr \nDie Eröffnung der Ausstellung findet am 18. Juli 2026 um 15:00 Uhr statt.\nBei Kuchen und Getränken bietet sich die Gelegenheit zum persönlichen Austausch mit dem Künstler.\nDer Künstler wird an allen Ausstellungstagen anwesend sein.  \n     \nNach über zwei Jahrzehnten als feste Größe in der Berliner Kunstszene hat der Maler und Bildhauer Klaus von Gratkowski seinen Lebensmittelpunkt an die Ostseeküste verlegt. In seiner neuen Wahlheimat Scharbeutz präsentiert er nun im Juli 2026 seine erste Werkschau in der geschichtsträchtigen „Kleinen Waldschänke“ in Klingberg.  \nDie Vita von Klaus von Gratkowski ist geprägt von einer tiefen Verwurzelung im Handwerk und einer konsequenten Entwicklung zur minimalistischen Kunst. Der 1954 in Berlin geborene Künstler ließ sich zunächst zum Kunstschreiner sowie zum Restaurator und Vergolder ausbilden\, bevor er die Werkkunstschule in München besuchte.  \nDiese handwerkliche Präzision spiegelt sich bis heute in seinen Arbeiten wider. Besonders bekannt wurde er durch seine 25-jährige Präsenz auf dem Kunstmarkt an der Berliner Museumsinsel (2000–2025)\, wo er internationale Beachtung fand. Seit Juni 2025 lebt und arbeitet er nun in Scharbeutz und lässt die Weite und Stille der Küste in sein Schaffen einfließen.  \nDie Besucher der kommenden Ausstellung erwartet ein faszinierender Dialog zwischen minimalistischen Strukturen und figürlichen Fragmenten. Von Gratkowski arbeitet bevorzugt mit einer selbst entwickelten\, zementähnlichen Masse. So entstehen reliefartige Oberflächen von herber Schönheit\, die – oft in reduzierter Farbgebung – eine meditative Ruhe ausstrahlen. Mit einem feinen Gespür für Ästhetik erschafft er Bildwelten\, in denen Poesie auf grenzenlose Phantasie trifft.  \nEin besonderes Highlight für die Region: Klaus von Gratkowski plant\, seine langjährige Erfahrung künftig in Malkursen/Workshop in der Kleinen Waldschänke weiterzugeben. Interessierte können sich während der Ausstellungstage direkt vor Ort über das Kursangebot informieren. 
URL:https://kleinewaldschaenke.de/event/strukturen/
LOCATION:Kleine Waldschänke\, Seestraße 56\, Klingberg\, 23684
CATEGORIES:Ausstellung
END:VEVENT
BEGIN:VEVENT
DTSTART;TZID=Europe/Berlin:20260731T000000
DTEND;TZID=Europe/Berlin:20260802T235959
DTSTAMP:20260424T134044
CREATED:20260222T075840Z
LAST-MODIFIED:20260403T072358Z
UID:1787-1785456000-1785715199@kleinewaldschaenke.de
SUMMARY:Intuition und Emotion
DESCRIPTION:Neue abstrakte Acrylbilder und Collagen\nvon Sonja Knoop\, Neustadt \n31.07. bis 02.08.2026\nFreitag von 14:00 bis 18:00 Uhr\nSamstag und Sonntag von 11:00 bis 18:00 Uhr \n       \nDie Sierksdorfer Malerin arbeitet abstrakt und unkonventionell auf Basis von Acrylfarbe. Häufig werden ungewöhnliche Materialien und Medien einbezogen.  Strukturen entstehen durch Schichtungen\, Farben überlagern sich\, werden überdeckt und wieder freigelegt. Die fertigen Werke sind oft sehr unterschiedlich\,  aber immer vom unverwechselbaren Stil der Künstlerin geprägt.  \nIn der Kleinen Waldschänke wird ein interessanter Einblick in die neuesten Arbeiten der Künstlerin geboten.  Die Bilder werden den Betrachter durch intensive Farben und interessante Strukturen in ihren Bann ziehen.  \nSonja Knoop betreibt ein offenes Atelier mit Galerie  und Malschule in Neustadt/Holstein. Dort kann man ihr bei der Arbeit über die Schulter schauen und außergewöhnliche Werke in jeder Preislage für die eigenen vier Wände finden. Oder man lässt sich in dem großzügigen Studio von ihrer Kreativität inspirieren und nimmt an einem individuellen Workshop oder Malkurs teil\, denn Sonja Knoop gibt ihre umfangreichen Kenntnisse und Erfahrungen gerne weiter 
URL:https://kleinewaldschaenke.de/event/intuition-und-emotion/
LOCATION:Kleine Waldschänke\, Seestraße 56\, Klingberg\, 23684
CATEGORIES:Ausstellung
END:VEVENT
BEGIN:VEVENT
DTSTART;TZID=Europe/Berlin:20260808T000000
DTEND;TZID=Europe/Berlin:20260809T235959
DTSTAMP:20260424T134044
CREATED:20260222T080226Z
LAST-MODIFIED:20260403T072854Z
UID:1789-1786147200-1786319999@kleinewaldschaenke.de
SUMMARY:Antik- und Trödelmarkt
DESCRIPTION:Historisches von A – Z\nLeitung: Astrid Petersen\, Klingberg \n08. und 09.08.2026\nSamstag und Sonntag von 11:00 bis 18:00 Uhr \n     \nAm Wochenende des 8. und 9. August 2026 wird Klingberg zum Treffpunkt für Liebhaber von Tradition\, Geselligkeit und besonderen Entdeckungen. Denn gleich zwei feste Größen im Veranstaltungskalender finden parallel statt: das beliebte Dorffest „Wuschikado“ am Haus des Gastes – und der traditionelle Antik- und Trödelmarkt in der Kleinen Waldschänke.  \nWährend draußen gefeiert wird\, lädt das fröhliche Team um Astrid Petersen in der historischen Waldschänke am Pönitzer See zum Stöbern\, Entdecken und Verweilen ein. In der gemütlichen Reetdachkate in der Seestraße 56 erwartet die Besucherinnen und Besucher an beiden Tagen von 11:00 bis 17:00 Uhr eine bunte Mischung aus Raritäten\, Kuriosem und echten Schnäppchen.  \nDas engagierte Ausstellerinnenteam präsentiert mit viel Herzblut eine vielfältige Auswahl: von Kunst- und Dekorationsobjekten für Haus und Garten über Haushaltswaren und Schmuck bis hin zu Bildern und außergewöhnlichen Fundstücken. Jedes Exponat bringt seine eigene Geschichte mit – und genau das macht den besonderen Reiz dieses Marktes aus.  \nWas diese Veranstaltung jedoch besonders macht\, sind nicht nur die angebotenen Schätze\, sondern vor allem die Menschen dahinter: Mit spürbarer Freude\, Energie und Leidenschaft zeigen die Damen des Teams\, dass Engagement keine Frage des Alters ist – sondern der Einstellung. Ihr Einsatz ist der beste Beweis dafür\, dass Begeisterung jung hält.  \nBei gutem Wetter lädt zudem der Hof der Waldschänke dazu ein\, die Atmosphäre entspannt zu genießen. Für das leibliche Wohl ist gesorgt: Hausgemachter Kuchen und erfrischende Getränke runden den Besuch ab.  \nSo entsteht ein Wochenende\, an dem gleich zwei Traditionen miteinander verschmelzen – lebendig\, herzlich und voller Entdeckungen. 
URL:https://kleinewaldschaenke.de/event/antik-und-troedelmarkt/
LOCATION:Kleine Waldschänke\, Seestraße 56\, Klingberg\, 23684
CATEGORIES:Antikmarkt,Markt
END:VEVENT
BEGIN:VEVENT
DTSTART;TZID=Europe/Berlin:20260815T000000
DTEND;TZID=Europe/Berlin:20260816T235959
DTSTAMP:20260424T134044
CREATED:20260222T081016Z
LAST-MODIFIED:20260403T071902Z
UID:1794-1786752000-1786924799@kleinewaldschaenke.de
SUMMARY:Mehr Meer
DESCRIPTION:Fotoausstellung \nMaritime Perspektiven zwischen Wasser\, Licht\, Wind und Loslassen \nvon Andrea Hulley\, Bonn\nund Klaus Rubach\, Klingberg \n15. und 16.08.2026\nSamstag und Sonntag von 11:00 bis 18:00 Uhr \n      \nDas Meer zeigt sich nie zweimal gleich und genau das macht seinen Zauber aus. In ihrer Fotoausstellung „mehr Meer“ laden die Hobbyfotografen und Segler Andrea Hulley und Klaus Rubach dazu ein\, das Meer mit neuen Augen zu sehen.   \nSegeln auf Traditionssegelschiffen ist mittlerweile Teil des immateriellen UNESCO Kulturerbes und wird als „aktives Segeln auf Traditionsseglern als Teil der Besatzung bei dem das Können und Wissen vom Segeln\, der Navigation\, der Schiffserhalt und Schiffsbetrieb von einer Stammcrew mit jungen Menschen geübt und weitergegeben wird“ definiert\, erläutern die Aussteller.  \nEntstanden sind die Aufnahmen auf verschiedenen Segeltörns mit kleinen und großen (Traditions-)Schiffen auf der Ostsee und dem Atlantik\, im Norden und Süden\, über und unter Deck\, bei Sonne\, Wind und Stille. Sie zeigen nicht nur Himmel\, Schiffe und Wellen\, sondern auch die leisen\, oft übersehenen Momente: das Spiel des Lichts auf dem Wasser\, Strukturen im Segel\, Spiegelungen\, Horizonte.  \nIn über 40 Fotografien halten Andrea Hulley und Klaus Rubach fest\, was viele am Meer suchen: das Gefühl\, ganz im Augenblick zu sein. Jede Aufnahme ist eine Einladung\, den eigenen Blickwinkel zu verändern und im Alltäglichen das Außergewöhnliche zu entdecken und sich vom Meer und seinen Perspektiven mindestens für den Augenblick einfangen zu lassen. 
URL:https://kleinewaldschaenke.de/event/mehr-meer/
LOCATION:Kleine Waldschänke\, Seestraße 56\, Klingberg\, 23684
CATEGORIES:Ausstellung
END:VEVENT
BEGIN:VEVENT
DTSTART;TZID=Europe/Berlin:20260829T000000
DTEND;TZID=Europe/Berlin:20260830T235959
DTSTAMP:20260424T134044
CREATED:20260222T080639Z
LAST-MODIFIED:20260403T073239Z
UID:1791-1787961600-1788134399@kleinewaldschaenke.de
SUMMARY:Acrylpouring
DESCRIPTION:Immer eine Überraschung\nArbeiten mit allem\, was einem einfällt \nmit Angela Lehmann\, Ratekau \n29. und 30.08.2026\nSamstag und Sonntag von 11:00 bis 18:00 Uhr \n    \nAm Wochenende vom 29. bis 30. August 2026 verwandelt sich die Kleine Waldschänke in Klingberg in einen Ort voller Farbe\, Kreativität und Ausdruckskraft. Unter dem Motto „Bunte abstrakte Kunst mit Acryl-Fließtechnik“ präsentiert Angela Lehmann aus Ratekau ihre außergewöhnlichen Werke.  \nDie Ausstellung zeigt abstrakte Bilder\, die mit flüssiger Acrylfarbe gestaltet wurden. Durch innovative Techniken und den experimentellen Einsatz verschiedenster Werkzeuge entstehen einzigartige Kompositionen – von dynamischen Farbverläufen bis hin zu überraschenden Strukturen. Ob mit Föhn\, Flachpinsel\, Becher oder sogar einem Spaghettisieb: Der Fantasie sind bei dieser Kunstform keine Grenzen gesetzt.  \nDie Ausstellung ist an beiden Tagen jeweils von 11:00 bis 18:00 Uhr geöffnet und lädt Besucherinnen und Besucher dazu ein\, in die faszinierende Welt der modernen Acryl-Fließtechnik einzutauchen.  \nDie Künstlerin entdeckte ihre Leidenschaft für das Malen bereits in ihrer Kindheit\, möglicherweise inspiriert durch ihre Mutter. Nach einer längeren kreativen Pause kehrte sie 2024 zur Kunst zurück und fand in der Acryl-Fließtechnik eine neue Ausdrucksform\, die sie seitdem begeistert verfolgt.  \nDie Besucher erwartet eine farbenfrohe Ausstellung voller Individualität und künstlerischer Freiheit. 
URL:https://kleinewaldschaenke.de/event/actrylpouring/
LOCATION:Kleine Waldschänke\, Seestraße 56\, Klingberg\, 23684
CATEGORIES:Ausstellung
END:VEVENT
BEGIN:VEVENT
DTSTART;TZID=Europe/Berlin:20260903T000000
DTEND;TZID=Europe/Berlin:20260906T235959
DTSTAMP:20260424T134044
CREATED:20260222T081624Z
LAST-MODIFIED:20260222T082046Z
UID:1797-1788393600-1788739199@kleinewaldschaenke.de
SUMMARY:Sehnsuchtsort
DESCRIPTION:Fotoausstellung zu Kindheitserinnerungen\, Klingberg-Besuchen und Ostseeurlauben\nvon Scarlett Wölz\, Göppingen \n03. bis 06.09.2026\nDonnerstag und Freitag von 14:00 bis 17:00 Uhr\nSamstag und Sonntag von 11:00 bis 17:00 Uhr
URL:https://kleinewaldschaenke.de/event/sehnsuchtsort/
LOCATION:Kleine Waldschänke\, Seestraße 56\, Klingberg\, 23684
CATEGORIES:Ausstellung
END:VEVENT
BEGIN:VEVENT
DTSTART;TZID=Europe/Berlin:20260925T000000
DTEND;TZID=Europe/Berlin:20260927T235959
DTSTAMP:20260424T134044
CREATED:20260222T082008Z
LAST-MODIFIED:20260228T111911Z
UID:1800-1790294400-1790553599@kleinewaldschaenke.de
SUMMARY:Von Seenlandschaften und Meereswesen
DESCRIPTION:Öl und Acrylbilder mit Naturmaterialien\nvon Heike Wünnenberg\, Neustadt \n25. bis 27.10.2026\nFreitag von 14:00 bis 17:00 Uhr\nSamstag und Sonntag von 11:00 bis 17:00 Uhr
URL:https://kleinewaldschaenke.de/event/von-seenlandschaften-und-meereswesen/
LOCATION:Kleine Waldschänke\, Seestraße 56\, Klingberg\, 23684
CATEGORIES:Ausstellung
END:VEVENT
BEGIN:VEVENT
DTSTART;TZID=Europe/Berlin:20261003T000000
DTEND;TZID=Europe/Berlin:20261004T235959
DTSTAMP:20260424T134044
CREATED:20260222T082934Z
LAST-MODIFIED:20260228T112024Z
UID:1804-1790985600-1791158399@kleinewaldschaenke.de
SUMMARY:Herbstzauber
DESCRIPTION:Floristik\, Kunsthandwerk und Honig\nLeitung Helga Mannig\, Eutin \n03. und 04.10.2026\nSamstag und Sonntag von 10:00 bis 17:00 Uhr
URL:https://kleinewaldschaenke.de/event/herbstzauber-4/
CATEGORIES:Herbstmarkt
END:VEVENT
BEGIN:VEVENT
DTSTART;TZID=Europe/Berlin:20261017T000000
DTEND;TZID=Europe/Berlin:20261018T235959
DTSTAMP:20260424T134044
CREATED:20260212T092557Z
LAST-MODIFIED:20260222T084024Z
UID:1712-1792195200-1792367999@kleinewaldschaenke.de
SUMMARY:Offene Näh- und Patchwerkstatt
DESCRIPTION:17. und 18.10.2025 – ein Kurs\, zwei Tage\nJeweils von 10:00 bis 16:00 Uhr – Kostenbeitrag 40\,- € gesamt für beide Tage\nAnmeldung unter 0171 – 701 86 66 oder brigitta-rubach@t-online.de \n     \nFür Näh – und Patchworkbegeisterte bietet die erfahrene Näherin und Patchworkerin Brigitta Rubach eine offene Nähwerkstatt (Unterstützung und Beratung\, kein Kurs!) an. Die Teilnehmer:innen bringen das gewünschte Projekt und das dazugehörige Werkzeug mit – ob Kleidung\, Deko\, Tasche oder Patchwork. Wer Unterstützung oder Anregungen benötigt\, kann sich im Vorfeld gerne Kontakt mit der Kursleiterin aufnehmen. Gemeinsam können dann Tipps und Tricks ausgetauscht und erprobt werden. Auch für ausreichende Inspirationen wird gesorgt. Teilnehmer:innen können Anfänger:innen und Fortgeschrittene sein – allerdings sollte die eigene Nähmaschine beherrscht und mitgebracht werden. Wegen der begrenzten Teilnehmer:innenzahl ist eine Anmeldung dringend erforderlich. Vor Ort sind Kaffeemaschine\, Bügeleisen und –brett\, sowie Schneidematten vorhanden. Jede Teilnehmer:in bringt etwas für das gemeinsame Mittagsbuffet mit.
URL:https://kleinewaldschaenke.de/event/offene-naeh-und-patchwerkstatt-6/
LOCATION:Haus des Gastes\, Seestraße 11\, Scharbeutz-Klingberg\, 23684
CATEGORIES:Brigitta Rubach,Nähwerkstatt
END:VEVENT
BEGIN:VEVENT
DTSTART;TZID=Europe/Berlin:20261017T000000
DTEND;TZID=Europe/Berlin:20261018T235959
DTSTAMP:20260424T134044
CREATED:20260222T083217Z
LAST-MODIFIED:20260222T083217Z
UID:1806-1792195200-1792367999@kleinewaldschaenke.de
SUMMARY:Farben in Landschaft und Abstraktion
DESCRIPTION:Verschiedene Maltechniken und Materialien\nvon Volker Winter\, Reinfeld \n17. bis 18.10.2026\nSamstag und Sonntag von 11:00 bis 17:00 Uhr
URL:https://kleinewaldschaenke.de/event/farben-in-landschaft-und-abstraktion/
LOCATION:Kleine Waldschänke\, Seestraße 56\, Klingberg\, 23684
CATEGORIES:Ausstellung
END:VEVENT
BEGIN:VEVENT
DTSTART;TZID=Europe/Berlin:20261114T000000
DTEND;TZID=Europe/Berlin:20261115T235959
DTSTAMP:20260424T134044
CREATED:20260212T093340Z
LAST-MODIFIED:20260222T083926Z
UID:1714-1794614400-1794787199@kleinewaldschaenke.de
SUMMARY:Offene Näh- und Patchwerkstatt
DESCRIPTION:14. und 15.11.2025 – ein Kurs\, zwei Tage\nJeweils von 10:00 bis 16:00 Uhr – Kostenbeitrag 40\,- € gesamt für beide Tage\nAnmeldung unter 0171 – 701 86 66 oder brigitta-rubach@t-online.de
URL:https://kleinewaldschaenke.de/event/offene-naeh-und-patchwerkstatt-7/
LOCATION:Haus des Gastes\, Seestraße 11\, Scharbeutz-Klingberg\, 23684
CATEGORIES:Brigitta Rubach,Kurs,Nähwerkstatt
ORGANIZER;CN="Brigitta Rubach":MAILTO:brigitta4patch@t-online.de
END:VEVENT
BEGIN:VEVENT
DTSTART;TZID=Europe/Berlin:20261128T000000
DTEND;TZID=Europe/Berlin:20261129T235959
DTSTAMP:20260424T134044
CREATED:20260222T083731Z
LAST-MODIFIED:20260222T083731Z
UID:1808-1795824000-1795996799@kleinewaldschaenke.de
SUMMARY:Hope for Africa
DESCRIPTION:Fairtrade Schmuck und Dekoartikel aus Afrika\nPearls of Africa\, Scharbeutz\n \n28. bis 29.11.2026\nSamstag und Sonntag von 11:00 bis 17:00 Uhr
URL:https://kleinewaldschaenke.de/event/hope-for-africa-2/
LOCATION:Kleine Waldschänke\, Seestraße 56\, Klingberg\, 23684
CATEGORIES:Ausstellung
END:VEVENT
END:VCALENDAR