BEGIN:VCALENDAR
VERSION:2.0
PRODID:-//Kulturverein Kleine Waldschänke e.V. - ECPv6.15.20//NONSGML v1.0//EN
CALSCALE:GREGORIAN
METHOD:PUBLISH
X-WR-CALNAME:Kulturverein Kleine Waldschänke e.V.
X-ORIGINAL-URL:https://kleinewaldschaenke.de
X-WR-CALDESC:Veranstaltungen für Kulturverein Kleine Waldschänke e.V.
REFRESH-INTERVAL;VALUE=DURATION:PT1H
X-Robots-Tag:noindex
X-PUBLISHED-TTL:PT1H
BEGIN:VTIMEZONE
TZID:Europe/Berlin
BEGIN:DAYLIGHT
TZOFFSETFROM:+0100
TZOFFSETTO:+0200
TZNAME:CEST
DTSTART:20250330T010000
END:DAYLIGHT
BEGIN:STANDARD
TZOFFSETFROM:+0200
TZOFFSETTO:+0100
TZNAME:CET
DTSTART:20251026T010000
END:STANDARD
BEGIN:DAYLIGHT
TZOFFSETFROM:+0100
TZOFFSETTO:+0200
TZNAME:CEST
DTSTART:20260329T010000
END:DAYLIGHT
BEGIN:STANDARD
TZOFFSETFROM:+0200
TZOFFSETTO:+0100
TZNAME:CET
DTSTART:20261025T010000
END:STANDARD
BEGIN:DAYLIGHT
TZOFFSETFROM:+0100
TZOFFSETTO:+0200
TZNAME:CEST
DTSTART:20270328T010000
END:DAYLIGHT
BEGIN:STANDARD
TZOFFSETFROM:+0200
TZOFFSETTO:+0100
TZNAME:CET
DTSTART:20271031T010000
END:STANDARD
END:VTIMEZONE
BEGIN:VEVENT
DTSTART;TZID=Europe/Berlin:20260903T000000
DTEND;TZID=Europe/Berlin:20260906T235959
DTSTAMP:20260424T151603
CREATED:20260222T081624Z
LAST-MODIFIED:20260222T082046Z
UID:1797-1788393600-1788739199@kleinewaldschaenke.de
SUMMARY:Sehnsuchtsort
DESCRIPTION:Fotoausstellung zu Kindheitserinnerungen\, Klingberg-Besuchen und Ostseeurlauben\nvon Scarlett Wölz\, Göppingen \n03. bis 06.09.2026\nDonnerstag und Freitag von 14:00 bis 17:00 Uhr\nSamstag und Sonntag von 11:00 bis 17:00 Uhr
URL:https://kleinewaldschaenke.de/event/sehnsuchtsort/
LOCATION:Kleine Waldschänke\, Seestraße 56\, Klingberg\, 23684
CATEGORIES:Ausstellung
END:VEVENT
BEGIN:VEVENT
DTSTART;TZID=Europe/Berlin:20260925T000000
DTEND;TZID=Europe/Berlin:20260927T235959
DTSTAMP:20260424T151603
CREATED:20260222T082008Z
LAST-MODIFIED:20260228T111911Z
UID:1800-1790294400-1790553599@kleinewaldschaenke.de
SUMMARY:Von Seenlandschaften und Meereswesen
DESCRIPTION:Öl und Acrylbilder mit Naturmaterialien\nvon Heike Wünnenberg\, Neustadt \n25. bis 27.10.2026\nFreitag von 14:00 bis 17:00 Uhr\nSamstag und Sonntag von 11:00 bis 17:00 Uhr
URL:https://kleinewaldschaenke.de/event/von-seenlandschaften-und-meereswesen/
LOCATION:Kleine Waldschänke\, Seestraße 56\, Klingberg\, 23684
CATEGORIES:Ausstellung
END:VEVENT
BEGIN:VEVENT
DTSTART;TZID=Europe/Berlin:20261003T000000
DTEND;TZID=Europe/Berlin:20261004T235959
DTSTAMP:20260424T151603
CREATED:20260222T082934Z
LAST-MODIFIED:20260228T112024Z
UID:1804-1790985600-1791158399@kleinewaldschaenke.de
SUMMARY:Herbstzauber
DESCRIPTION:Floristik\, Kunsthandwerk und Honig\nLeitung Helga Mannig\, Eutin \n03. und 04.10.2026\nSamstag und Sonntag von 10:00 bis 17:00 Uhr
URL:https://kleinewaldschaenke.de/event/herbstzauber-4/
CATEGORIES:Herbstmarkt
END:VEVENT
BEGIN:VEVENT
DTSTART;TZID=Europe/Berlin:20261017T000000
DTEND;TZID=Europe/Berlin:20261018T235959
DTSTAMP:20260424T151603
CREATED:20260212T092557Z
LAST-MODIFIED:20260222T084024Z
UID:1712-1792195200-1792367999@kleinewaldschaenke.de
SUMMARY:Offene Näh- und Patchwerkstatt
DESCRIPTION:17. und 18.10.2025 – ein Kurs\, zwei Tage\nJeweils von 10:00 bis 16:00 Uhr – Kostenbeitrag 40\,- € gesamt für beide Tage\nAnmeldung unter 0171 – 701 86 66 oder brigitta-rubach@t-online.de \n     \nFür Näh – und Patchworkbegeisterte bietet die erfahrene Näherin und Patchworkerin Brigitta Rubach eine offene Nähwerkstatt (Unterstützung und Beratung\, kein Kurs!) an. Die Teilnehmer:innen bringen das gewünschte Projekt und das dazugehörige Werkzeug mit – ob Kleidung\, Deko\, Tasche oder Patchwork. Wer Unterstützung oder Anregungen benötigt\, kann sich im Vorfeld gerne Kontakt mit der Kursleiterin aufnehmen. Gemeinsam können dann Tipps und Tricks ausgetauscht und erprobt werden. Auch für ausreichende Inspirationen wird gesorgt. Teilnehmer:innen können Anfänger:innen und Fortgeschrittene sein – allerdings sollte die eigene Nähmaschine beherrscht und mitgebracht werden. Wegen der begrenzten Teilnehmer:innenzahl ist eine Anmeldung dringend erforderlich. Vor Ort sind Kaffeemaschine\, Bügeleisen und –brett\, sowie Schneidematten vorhanden. Jede Teilnehmer:in bringt etwas für das gemeinsame Mittagsbuffet mit.
URL:https://kleinewaldschaenke.de/event/offene-naeh-und-patchwerkstatt-6/
LOCATION:Haus des Gastes\, Seestraße 11\, Scharbeutz-Klingberg\, 23684
CATEGORIES:Brigitta Rubach,Nähwerkstatt
END:VEVENT
BEGIN:VEVENT
DTSTART;TZID=Europe/Berlin:20261017T000000
DTEND;TZID=Europe/Berlin:20261018T235959
DTSTAMP:20260424T151603
CREATED:20260222T083217Z
LAST-MODIFIED:20260222T083217Z
UID:1806-1792195200-1792367999@kleinewaldschaenke.de
SUMMARY:Farben in Landschaft und Abstraktion
DESCRIPTION:Verschiedene Maltechniken und Materialien\nvon Volker Winter\, Reinfeld \n17. bis 18.10.2026\nSamstag und Sonntag von 11:00 bis 17:00 Uhr
URL:https://kleinewaldschaenke.de/event/farben-in-landschaft-und-abstraktion/
LOCATION:Kleine Waldschänke\, Seestraße 56\, Klingberg\, 23684
CATEGORIES:Ausstellung
END:VEVENT
BEGIN:VEVENT
DTSTART;TZID=Europe/Berlin:20261114T000000
DTEND;TZID=Europe/Berlin:20261115T235959
DTSTAMP:20260424T151603
CREATED:20260212T093340Z
LAST-MODIFIED:20260222T083926Z
UID:1714-1794614400-1794787199@kleinewaldschaenke.de
SUMMARY:Offene Näh- und Patchwerkstatt
DESCRIPTION:14. und 15.11.2025 – ein Kurs\, zwei Tage\nJeweils von 10:00 bis 16:00 Uhr – Kostenbeitrag 40\,- € gesamt für beide Tage\nAnmeldung unter 0171 – 701 86 66 oder brigitta-rubach@t-online.de
URL:https://kleinewaldschaenke.de/event/offene-naeh-und-patchwerkstatt-7/
LOCATION:Haus des Gastes\, Seestraße 11\, Scharbeutz-Klingberg\, 23684
CATEGORIES:Brigitta Rubach,Kurs,Nähwerkstatt
ORGANIZER;CN="Brigitta Rubach":MAILTO:brigitta4patch@t-online.de
END:VEVENT
BEGIN:VEVENT
DTSTART;TZID=Europe/Berlin:20261128T000000
DTEND;TZID=Europe/Berlin:20261129T235959
DTSTAMP:20260424T151603
CREATED:20260222T083731Z
LAST-MODIFIED:20260222T083731Z
UID:1808-1795824000-1795996799@kleinewaldschaenke.de
SUMMARY:Hope for Africa
DESCRIPTION:Fairtrade Schmuck und Dekoartikel aus Afrika\nPearls of Africa\, Scharbeutz\n \n28. bis 29.11.2026\nSamstag und Sonntag von 11:00 bis 17:00 Uhr
URL:https://kleinewaldschaenke.de/event/hope-for-africa-2/
LOCATION:Kleine Waldschänke\, Seestraße 56\, Klingberg\, 23684
CATEGORIES:Ausstellung
END:VEVENT
END:VCALENDAR