BEGIN:VCALENDAR
VERSION:2.0
PRODID:-//Kulturverein Kleine Waldschänke e.V. - ECPv6.15.20//NONSGML v1.0//EN
CALSCALE:GREGORIAN
METHOD:PUBLISH
X-ORIGINAL-URL:https://kleinewaldschaenke.de
X-WR-CALDESC:Veranstaltungen für Kulturverein Kleine Waldschänke e.V.
REFRESH-INTERVAL;VALUE=DURATION:PT1H
X-Robots-Tag:noindex
X-PUBLISHED-TTL:PT1H
BEGIN:VTIMEZONE
TZID:Europe/Berlin
BEGIN:DAYLIGHT
TZOFFSETFROM:+0100
TZOFFSETTO:+0200
TZNAME:CEST
DTSTART:20240331T010000
END:DAYLIGHT
BEGIN:STANDARD
TZOFFSETFROM:+0200
TZOFFSETTO:+0100
TZNAME:CET
DTSTART:20241027T010000
END:STANDARD
BEGIN:DAYLIGHT
TZOFFSETFROM:+0100
TZOFFSETTO:+0200
TZNAME:CEST
DTSTART:20250330T010000
END:DAYLIGHT
BEGIN:STANDARD
TZOFFSETFROM:+0200
TZOFFSETTO:+0100
TZNAME:CET
DTSTART:20251026T010000
END:STANDARD
BEGIN:DAYLIGHT
TZOFFSETFROM:+0100
TZOFFSETTO:+0200
TZNAME:CEST
DTSTART:20260329T010000
END:DAYLIGHT
BEGIN:STANDARD
TZOFFSETFROM:+0200
TZOFFSETTO:+0100
TZNAME:CET
DTSTART:20261025T010000
END:STANDARD
END:VTIMEZONE
BEGIN:VEVENT
DTSTART;TZID=Europe/Berlin:20251122T000000
DTEND;TZID=Europe/Berlin:20251123T235959
DTSTAMP:20260425T055636
CREATED:20250210T102238Z
LAST-MODIFIED:20250526T111235Z
UID:1416-1763769600-1763942399@kleinewaldschaenke.de
SUMMARY:MineralienSchmuckDesign trifft Experimentelles Malen
DESCRIPTION:Öffnungszeiten: 11:00 – 17:00 Uhr \nMartina Hilke und Barbara Hansen \nZwei Frauen – eine Ausstellung . Die beiden Künstlerinnen verbindet eine langjährige Zusammenarbeit mit vielen gemeinsamen Ausstellungen.\nMartina Hilker beschäftigt sich mit unterschiedlichen Techniken und Themen der Malerei. Farbspielereien und experimentelles Ausprobieren lässt Arbeiten zu-meist auf Papier entstehen\, die ab und an kleine „Geschichten“ erzählen. \n    \n\nBarbara Hansen fertigt ihren Mineralienschmuck teils aus geschliffenen Steinen\, teils roh belassen\, als kleine I-Tüpfelchen sind den Schmuckstücken Echtsilber-Teile zugefügt. Desweiteten erfreuen leuchtende Muranoglas-Perlen die Be-trachter*innen der Unikat-Schmuckstücke.
URL:https://kleinewaldschaenke.de/event/mineralienschmuckdesign-trifft-experimentelles-malen-2/
LOCATION:Kleine Waldschänke\, Seestraße 56\, Klingberg\, 23684
CATEGORIES:Veranstaltung
ATTACH;FMTTYPE=image/jpeg:https://kleinewaldschaenke.de/wp-content/uploads/2025/01/Hansen-4-scaled-e1739182871846.jpg
END:VEVENT
END:VCALENDAR