BEGIN:VCALENDAR
VERSION:2.0
PRODID:-//Kulturverein Kleine Waldschänke e.V. - ECPv6.15.20//NONSGML v1.0//EN
CALSCALE:GREGORIAN
METHOD:PUBLISH
X-WR-CALNAME:Kulturverein Kleine Waldschänke e.V.
X-ORIGINAL-URL:https://kleinewaldschaenke.de
X-WR-CALDESC:Veranstaltungen für Kulturverein Kleine Waldschänke e.V.
REFRESH-INTERVAL;VALUE=DURATION:PT1H
X-Robots-Tag:noindex
X-PUBLISHED-TTL:PT1H
BEGIN:VTIMEZONE
TZID:Europe/Berlin
BEGIN:DAYLIGHT
TZOFFSETFROM:+0100
TZOFFSETTO:+0200
TZNAME:CEST
DTSTART:20240331T010000
END:DAYLIGHT
BEGIN:STANDARD
TZOFFSETFROM:+0200
TZOFFSETTO:+0100
TZNAME:CET
DTSTART:20241027T010000
END:STANDARD
BEGIN:DAYLIGHT
TZOFFSETFROM:+0100
TZOFFSETTO:+0200
TZNAME:CEST
DTSTART:20250330T010000
END:DAYLIGHT
BEGIN:STANDARD
TZOFFSETFROM:+0200
TZOFFSETTO:+0100
TZNAME:CET
DTSTART:20251026T010000
END:STANDARD
BEGIN:DAYLIGHT
TZOFFSETFROM:+0100
TZOFFSETTO:+0200
TZNAME:CEST
DTSTART:20260329T010000
END:DAYLIGHT
BEGIN:STANDARD
TZOFFSETFROM:+0200
TZOFFSETTO:+0100
TZNAME:CET
DTSTART:20261025T010000
END:STANDARD
END:VTIMEZONE
BEGIN:VEVENT
DTSTART;TZID=Europe/Berlin:20250727T150000
DTEND;TZID=Europe/Berlin:20250727T190000
DTSTAMP:20260422T042614
CREATED:20250413T102920Z
LAST-MODIFIED:20250629T194330Z
UID:1563-1753628400-1753642800@kleinewaldschaenke.de
SUMMARY:Sommerfest
DESCRIPTION:Sommerfest des Vereins mit Grillen. \nEingeladen sind Vereinsmitglieder\, Ausstellende und Freunde. \nWürstchen und Getränke sind ausreichend vorhanden. Kuchenspenden fürs Buffet sind willkommen. \nWir freuen uns auf ein lebendiges Fest! \nEs hatte sich im ursprünglichen Hinweis auf dieser Website ein Datumsfehler eingeschlichen. Bitte beachtet die Datumskorrektur auf den 27.07. \n 
URL:https://kleinewaldschaenke.de/event/sommerfest-2/
LOCATION:Kleine Waldschänke\, Seestraße 56\, Klingberg\, 23684
CATEGORIES:Veranstaltung
ATTACH;FMTTYPE=image/jpeg:https://kleinewaldschaenke.de/wp-content/uploads/2024/04/20230529_124546-scaled-e1744540149477.jpg
END:VEVENT
END:VCALENDAR